BEGIN:VCALENDAR
VERSION:2.0
PRODID:-//ChamberMaster//Event Calendar 2.0//EN
METHOD:PUBLISH
X-PUBLISHED-TTL:P3D
REFRESH-INTERVAL:P3D
CALSCALE:GREGORIAN
BEGIN:VEVENT
DTSTART:20111214T060000Z
DTEND:20111214T060000Z
X-MICROSOFT-CDO-ALLDAYEVENT:FALSE
SUMMARY:Unnamed Event
DESCRIPTION:December Business Luncheon - Honorable Rick Noriega.  Hear from our former State Representative\, who is the national President and CEO of AVANCE\, Inc. and voted by Hispanic Business Magazine as one of their Top 100 Influential Hispanics for 2011! A University of Houston Alum\, Rick is a proud East End resident!\n\nIn the Holiday Spirit\, we are collecting and purchasing toys for AVANCE Families\, a community-based organization focusing on offering early childhood education\, parenting and comprehensive family services.  Your contributions will bring joy and make a difference this Christmas to these children in the East End!   We invite your business to bring an unwrapped toy or donate any amount you wish toward the purchase of toys.   \n \nPlease respond to this note with your name and the amount you plan to donate by Friday\, December 9th so we can recognize you in the Luncheon Program and purchase toys over the weekend.    Then just put your check in the mail or call us with a credit card number and share in the joy!
X-ALT-DESC;FMTTYPE=text/html:December Business Luncheon - Honorable Rick Noriega.  Hear from our former State Representative\, who is the national President and CEO of AVANCE\, Inc. and voted by Hispanic Business Magazine as one of their Top 100 Influential Hispanics for 2011! A University of Houston Alum\, Rick is a proud East End resident!\n\nIn the Holiday Spirit\, we are collecting and purchasing toys for AVANCE Families\, a community-based organization focusing on offering early childhood education\, parenting and comprehensive family services.  Your contributions will bring joy and make a difference this Christmas to these children in the East End!   We invite your business to bring an unwrapped toy or donate any amount you wish toward the purchase of toys.   \n \nPlease respond to this note with your name and the amount you plan to donate by Friday\, December 9th so we can recognize you in the Luncheon Program and purchase toys over the weekend.    Then just put your check in the mail or call us with a credit card number and share in the joy!  \n\n
LOCATION:Brady's Landing 8505 Cypress Houston\, TX 77012
UID:e.2026.88502
SEQUENCE:3
DTSTAMP:20260423T023940Z
URL:https://business.eecoc.org/events/details/unnamed-event-12-14-2011-88502
END:VEVENT

END:VCALENDAR
