BEGIN:VCALENDAR
VERSION:2.0
PRODID:-//ChamberMaster//Event Calendar 2.0//EN
METHOD:PUBLISH
X-PUBLISHED-TTL:P3D
REFRESH-INTERVAL:P3D
CALSCALE:GREGORIAN
BEGIN:VEVENT
DTSTART:20111213T060000Z
DTEND:20111213T060000Z
X-MICROSOFT-CDO-ALLDAYEVENT:FALSE
SUMMARY:Unnamed Event
DESCRIPTION:Give a 60 second commercial on your business to more than 50 prospective customers!  Receive contact information after the event for immediate follow up.\n\nComplimentary breakfast provided by Cristo Rey!  Parking is available in circular drive in front of the school or in the parking lot across the street.
X-ALT-DESC;FMTTYPE=text/html:Give a 60 second commercial on your business to more than 50 prospective customers!  Receive contact information after the event for immediate follow up.\n\nComplimentary breakfast provided by Cristo Rey!  Parking is available in circular drive in front of the school or in the parking lot across the street.  
LOCATION:Cristo Rey Jesuit College Preparatory School 6700 Mount Carmel St. Houston\, Texas 77087
UID:e.2026.88631
SEQUENCE:3
DTSTAMP:20260423T024057Z
URL:https://business.eecoc.org/events/details/unnamed-event-12-13-2011-88631
END:VEVENT

END:VCALENDAR
