BEGIN:VCALENDAR
VERSION:2.0
PRODID:-//ChamberMaster//Event Calendar 2.0//EN
METHOD:PUBLISH
X-PUBLISHED-TTL:P3D
REFRESH-INTERVAL:P3D
CALSCALE:GREGORIAN
BEGIN:VEVENT
DTSTART:20091211T060000Z
DTEND:20091211T060000Z
X-MICROSOFT-CDO-ALLDAYEVENT:FALSE
SUMMARY:Unnamed Event
DESCRIPTION:Dealing with Greenhouse Gas Emissions:  Learn the Facts\, Requirements and Efficiency Solutions!\nFeatured Speakers Dr. Matthew Gardner\, Principal of SustainServ and David Schneider CenterPoint Energy and a third speaker to be announced.  \nSponsored by CenterPoint Energy\nHosted by the East End Chamber and Greater Houston Partnership
X-ALT-DESC;FMTTYPE=text/html:Dealing with Greenhouse Gas Emissions:  Learn the Facts\, Requirements and Efficiency Solutions!\nFeatured Speakers Dr. Matthew Gardner\, Principal of SustainServ and David Schneider CenterPoint Energy and a third speaker to be announced.  \nSponsored by CenterPoint Energy\nHosted by the East End Chamber and Greater Houston Partnership\n
LOCATION:Brady's Landing 8505 Cypress St. Houston\, Texas 77012
UID:e.2026.43744
SEQUENCE:3
DTSTAMP:20260424T144524Z
URL:https://business.eecoc.org/events/details/unnamed-event-12-11-2009-43744
END:VEVENT

END:VCALENDAR
