BEGIN:VCALENDAR
VERSION:2.0
PRODID:-//ChamberMaster//Event Calendar 2.0//EN
METHOD:PUBLISH
X-PUBLISHED-TTL:P3D
REFRESH-INTERVAL:P3D
CALSCALE:GREGORIAN
BEGIN:VEVENT
DTSTART:20091209T060000Z
DTEND:20091209T060000Z
X-MICROSOFT-CDO-ALLDAYEVENT:FALSE
SUMMARY:Unnamed Event
DESCRIPTION:Education Successes in 2009 - Bigger Plans for 2010 at Christmas Luncheon!  Meet HISD Superintendent Dr. Terry Grier and hear his plans for 2010!  National Engineering Academy at Chavez High School will showcase their latest projects and we will celebrate Christmas with a special presentation to our first senior of the Engineering Academy!
X-ALT-DESC;FMTTYPE=text/html:Education Successes in 2009 - Bigger Plans for 2010 at Christmas Luncheon!  Meet HISD Superintendent Dr. Terry Grier and hear his plans for 2010!  National Engineering Academy at Chavez High School will showcase their latest projects and we will celebrate Christmas with a special presentation to our first senior of the Engineering Academy!
LOCATION:Brady's Landing 8505 Cypress Houston\, Texas 77012
UID:e.2026.43736
SEQUENCE:3
DTSTAMP:20260424T144536Z
URL:https://business.eecoc.org/events/details/unnamed-event-12-09-2009-43736
END:VEVENT

END:VCALENDAR
