BEGIN:VCALENDAR
VERSION:2.0
PRODID:-//ChamberMaster//Event Calendar 2.0//EN
METHOD:PUBLISH
X-PUBLISHED-TTL:P3D
REFRESH-INTERVAL:P3D
CALSCALE:GREGORIAN
BEGIN:VEVENT
DTSTART:20101208T060000Z
DTEND:20101208T060000Z
X-MICROSOFT-CDO-ALLDAYEVENT:FALSE
SUMMARY:Unnamed Event
DESCRIPTION:Let's Hear and Say "Thank You" to Commissioner Sylvia R. Garcia for 8 years service as our Harris County Precinct Two Commissioner representing our East End!\nContribute or bring an unwrapped toy! Pancho Claus and Roman Martinez of Texas Taxi\, Inc. will give a Holiday Cheer and accept your unwrapped toys that will be distributed to our East End Children.
X-ALT-DESC;FMTTYPE=text/html:Let's Hear and Say "Thank You" to Commissioner Sylvia R. Garcia for 8 years service as our Harris County Precinct Two Commissioner representing our East End!\nContribute or bring an unwrapped toy! Pancho Claus and Roman Martinez of Texas Taxi\, Inc. will give a Holiday Cheer and accept your unwrapped toys that will be distributed to our East End Children.
LOCATION:Brady's Landing 8505 Cypress Houston\, TX 77012
UID:e.2026.72055
SEQUENCE:3
DTSTAMP:20260423T210618Z
URL:https://business.eecoc.org/events/details/unnamed-event-12-08-2010-72055
END:VEVENT

END:VCALENDAR
