BEGIN:VCALENDAR
VERSION:2.0
PRODID:-//ChamberMaster//Event Calendar 2.0//EN
METHOD:PUBLISH
X-PUBLISHED-TTL:P3D
REFRESH-INTERVAL:P3D
CALSCALE:GREGORIAN
BEGIN:VEVENT
DTSTART:20111206T060000Z
DTEND:20111206T060000Z
X-MICROSOFT-CDO-ALLDAYEVENT:FALSE
SUMMARY:Unnamed Event
DESCRIPTION:Meet Port of Houston Directors & Learn to Do Business with the Port and give a 60 second “commercial” on YOUR Business to more than 50 prospective customers and receive contact information on all attendees for immediate follow-up
X-ALT-DESC;FMTTYPE=text/html:Meet Port of Houston Directors & Learn to Do Business with the Port and give a 60 second “commercial” on YOUR Business to more than 50 prospective customers and receive contact information on all attendees for immediate follow-up
LOCATION:Port of Houston Authority\, 111 East Loop North\, 77029\, 8:30 a.m.
UID:e.2026.88389
SEQUENCE:3
DTSTAMP:20260423T023940Z
URL:https://business.eecoc.org/events/details/unnamed-event-12-06-2011-88389
END:VEVENT

END:VCALENDAR
