BEGIN:VCALENDAR
VERSION:2.0
PRODID:-//ChamberMaster//Event Calendar 2.0//EN
METHOD:PUBLISH
X-PUBLISHED-TTL:P3D
REFRESH-INTERVAL:P3D
CALSCALE:GREGORIAN
BEGIN:VEVENT
DTSTART:20091201T060000Z
DTEND:20091201T060000Z
X-MICROSOFT-CDO-ALLDAYEVENT:FALSE
SUMMARY:Unnamed Event
DESCRIPTION:Vietnam - The Emerging Leader in International Trade!  Steve Stewart\, President - Gulf Winds International and Vietnam Verteran recently returned from an economic trade mission to Vietnam will share his optimism for this developing country based on first hand observations and experiences with this very pro-American population.
X-ALT-DESC;FMTTYPE=text/html:Vietnam - The Emerging Leader in International Trade!  Steve Stewart\, President - Gulf Winds International and Vietnam Verteran recently returned from an economic trade mission to Vietnam will share his optimism for this developing country based on first hand observations and experiences with this very pro-American population.
LOCATION:Brady's Landing 8505 Cypress St. - 77012
UID:e.2026.43128
SEQUENCE:3
DTSTAMP:20260424T144508Z
URL:https://business.eecoc.org/events/details/unnamed-event-12-01-2009-43128
END:VEVENT

END:VCALENDAR
