BEGIN:VCALENDAR
VERSION:2.0
PRODID:-//ChamberMaster//Event Calendar 2.0//EN
METHOD:PUBLISH
X-PUBLISHED-TTL:P3D
REFRESH-INTERVAL:P3D
CALSCALE:GREGORIAN
BEGIN:VEVENT
DTSTART:20101111T060000Z
DTEND:20101111T060000Z
X-MICROSOFT-CDO-ALLDAYEVENT:FALSE
SUMMARY:Unnamed Event
DESCRIPTION:Meet and Learn Business Strategies from successful executives! Speakers Bill Sherrill and Cliff Athertor
X-ALT-DESC;FMTTYPE=text/html:Meet and Learn Business Strategies from successful executives! Speakers Bill Sherrill and Cliff Athertor
LOCATION:Brady's Landing 8505 Cypress Houston\, TX 77012
UID:e.2026.70613
SEQUENCE:3
DTSTAMP:20260423T222135Z
URL:https://business.eecoc.org/events/details/unnamed-event-11-11-2010-70613
END:VEVENT

END:VCALENDAR
