BEGIN:VCALENDAR
VERSION:2.0
PRODID:-//ChamberMaster//Event Calendar 2.0//EN
METHOD:PUBLISH
X-PUBLISHED-TTL:P3D
REFRESH-INTERVAL:P3D
CALSCALE:GREGORIAN
BEGIN:VEVENT
DTSTART:20091111T060000Z
DTEND:20091111T060000Z
X-MICROSOFT-CDO-ALLDAYEVENT:FALSE
SUMMARY:Unnamed Event
DESCRIPTION:The World of Professional Sports Challenges\, Opportunties and Business for YOU!  Panelists include Pam Gardner\, Houston Astros\; Oliver Luck\, Houston Dynamo\, Jamey Rootes\, Houston Texans and Rafel Stone General Counsel\, Houston Rockets!  Be the FIRST to know the latest news in the world of Houston Sports!
X-ALT-DESC;FMTTYPE=text/html:The World of Professional Sports Challenges\, Opportunties and Business for YOU!  Panelists include Pam Gardner\, Houston Astros\; Oliver Luck\, Houston Dynamo\, Jamey Rootes\, Houston Texans and Rafel Stone General Counsel\, Houston Rockets!  Be the FIRST to know the latest news in the world of Houston Sports!
LOCATION:Brady's Landing 8505 Cypress St.
UID:e.2026.42242
SEQUENCE:3
DTSTAMP:20260424T162547Z
URL:https://business.eecoc.org/events/details/unnamed-event-11-11-2009-42242
END:VEVENT

END:VCALENDAR
