BEGIN:VCALENDAR
VERSION:2.0
PRODID:-//ChamberMaster//Event Calendar 2.0//EN
METHOD:PUBLISH
X-PUBLISHED-TTL:P3D
REFRESH-INTERVAL:P3D
CALSCALE:GREGORIAN
BEGIN:VEVENT
DTSTART:20111110T060000Z
DTEND:20111110T060000Z
X-MICROSOFT-CDO-ALLDAYEVENT:FALSE
SUMMARY:Unnamed Event
DESCRIPTION:Come try one of the tastiest barbecue spots in the East End while meeting new business prospects!  \nComplimentary appetizers and drink specials will be provided!\n\nPlease RSVP to frontdesk@eecoc.org.
X-ALT-DESC;FMTTYPE=text/html:Come try one of the tastiest barbecue spots in the East End while meeting new business prospects!  \nComplimentary appetizers and drink specials will be provided!\n\nPlease RSVP to frontdesk@eecoc.org.\n\n
LOCATION:Gabby's BarB-Q 4659 Telephone Rd. Houston\, Texas 77087
UID:e.2026.88204
SEQUENCE:3
DTSTAMP:20260423T041725Z
URL:https://business.eecoc.org/events/details/unnamed-event-11-10-2011-88204
END:VEVENT

END:VCALENDAR
