BEGIN:VCALENDAR
VERSION:2.0
PRODID:-//ChamberMaster//Event Calendar 2.0//EN
METHOD:PUBLISH
X-PUBLISHED-TTL:P3D
REFRESH-INTERVAL:P3D
CALSCALE:GREGORIAN
BEGIN:VEVENT
DTSTART:20101110T060000Z
DTEND:20101110T060000Z
X-MICROSOFT-CDO-ALLDAYEVENT:FALSE
SUMMARY:Unnamed Event
DESCRIPTION:Business Luncheon featuring Dr. Carlucci\, University of Houston's Executive Vice Chancellor/Executive Vice President for Administration & Finance. Dr. Carlucci will speak on the new University of Houston's Research & Technology Center. Learn how you can benefit from and do business with this new\, nationally recognized center!
X-ALT-DESC;FMTTYPE=text/html:Business Luncheon featuring Dr. Carlucci\, University of Houston's Executive Vice Chancellor/Executive Vice President for Administration & Finance. Dr. Carlucci will speak on the new University of Houston's Research & Technology Center. Learn how you can benefit from and do business with this new\, nationally recognized center!
LOCATION:Brady's Landing 8505 Cypress Houston\, TX 77012
UID:e.2026.70542
SEQUENCE:3
DTSTAMP:20260423T222130Z
URL:https://business.eecoc.org/events/details/unnamed-event-11-10-2010-70542
END:VEVENT

END:VCALENDAR
