BEGIN:VCALENDAR
VERSION:2.0
PRODID:-//ChamberMaster//Event Calendar 2.0//EN
METHOD:PUBLISH
X-PUBLISHED-TTL:P3D
REFRESH-INTERVAL:P3D
CALSCALE:GREGORIAN
BEGIN:VEVENT
DTSTART:20111109T060000Z
DTEND:20111109T060000Z
X-MICROSOFT-CDO-ALLDAYEVENT:FALSE
SUMMARY:Unnamed Event
DESCRIPTION:NOVEMBER BUSINESS LUNCHEON - Terry B. Grier\, Ed.D.\, Houston Independent School District’s Superintendent of Schools.\nHear a State of HISD’s East End School Address.  Meet the new Principals at Milby\, Austin and Eastwood High School’s and visit with other Principals of East End Schools and our HISD Trustees. \nDon’t miss a Special Scholarship Announcement!\n\nJoin our New Chamber Board Chair\, Rachel de Cordova of Royston Rayzor Vickory and Williams LLP in her first official Luncheon Address and meet new board members!
X-ALT-DESC;FMTTYPE=text/html:NOVEMBER BUSINESS LUNCHEON - Terry B. Grier\, Ed.D.\, Houston Independent School District’s Superintendent of Schools.\nHear a State of HISD’s East End School Address.  Meet the new Principals at Milby\, Austin and Eastwood High School’s and visit with other Principals of East End Schools and our HISD Trustees. \nDon’t miss a Special Scholarship Announcement!\n\nJoin our New Chamber Board Chair\, Rachel de Cordova of Royston Rayzor Vickory and Williams LLP in her first official Luncheon Address and meet new board members!\n
LOCATION:Brady's Landing 8505 Cypress Houston\, TX 77012
UID:e.2026.88113
SEQUENCE:3
DTSTAMP:20260423T041724Z
URL:https://business.eecoc.org/events/details/unnamed-event-11-09-2011-88113
END:VEVENT

END:VCALENDAR
