BEGIN:VCALENDAR
VERSION:2.0
PRODID:-//ChamberMaster//Event Calendar 2.0//EN
METHOD:PUBLISH
X-PUBLISHED-TTL:P3D
REFRESH-INTERVAL:P3D
CALSCALE:GREGORIAN
BEGIN:VEVENT
DTSTART:20091104T060000Z
DTEND:20091104T060000Z
X-MICROSOFT-CDO-ALLDAYEVENT:FALSE
SUMMARY:Unnamed Event
DESCRIPTION:Speed Networking Breakfast!  This is the latest form of networking!\nPersonally introduce yourself and your business to more than 60\nprospective customers in one hour!  It WORKS and it's FUN! \nContact information on everyone present will be distributed via\nemail that afternoon.
X-ALT-DESC;FMTTYPE=text/html:Speed Networking Breakfast!  This is the latest form of networking!\nPersonally introduce yourself and your business to more than 60\nprospective customers in one hour!  It WORKS and it's FUN! \nContact information on everyone present will be distributed via\nemail that afternoon.
LOCATION:Marbella's Banquet Hall 6632 Harrisburg 77011
UID:e.2026.41736
SEQUENCE:3
DTSTAMP:20260424T162430Z
URL:https://business.eecoc.org/events/details/unnamed-event-11-04-2009-41736
END:VEVENT

END:VCALENDAR
