BEGIN:VCALENDAR
VERSION:2.0
PRODID:-//ChamberMaster//Event Calendar 2.0//EN
METHOD:PUBLISH
X-PUBLISHED-TTL:P3D
REFRESH-INTERVAL:P3D
CALSCALE:GREGORIAN
BEGIN:VEVENT
DTSTART:20101102T050000Z
DTEND:20101102T050000Z
X-MICROSOFT-CDO-ALLDAYEVENT:FALSE
SUMMARY:Unnamed Event
DESCRIPTION:Enjoy Complimentary Breakfast and Give a 60 second "commercial" on YOUR Business to more than 60 prospective customers!
X-ALT-DESC;FMTTYPE=text/html:Enjoy Complimentary Breakfast and Give a 60 second "commercial" on YOUR Business to more than 60 prospective customers!
LOCATION:Bohemeo's Music and Art Coffee House 708 Telephone Rd. (Inside the Tlaquepaque Market) Houston\, TX 77023
UID:e.2026.70549
SEQUENCE:3
DTSTAMP:20260423T222156Z
URL:https://business.eecoc.org/events/details/unnamed-event-11-02-2010-70549
END:VEVENT

END:VCALENDAR
