BEGIN:VCALENDAR
VERSION:2.0
PRODID:-//ChamberMaster//Event Calendar 2.0//EN
METHOD:PUBLISH
X-PUBLISHED-TTL:P3D
REFRESH-INTERVAL:P3D
CALSCALE:GREGORIAN
BEGIN:VEVENT
DTSTART:20111101T050000Z
DTEND:20111101T050000Z
X-MICROSOFT-CDO-ALLDAYEVENT:FALSE
SUMMARY:Unnamed Event
DESCRIPTION:Give a 60 second "commercial" on YOUR business to more than 50 prospective customers!\nThis complimentary event includes breakfast and coffee!
X-ALT-DESC;FMTTYPE=text/html:Give a 60 second "commercial" on YOUR business to more than 50 prospective customers!\nThis complimentary event includes breakfast and coffee!  
LOCATION:Tejano Center for Community Concerns 2950 Broadway Houston\, TX 77017
UID:e.2026.88126
SEQUENCE:3
DTSTAMP:20260423T041637Z
URL:https://business.eecoc.org/events/details/unnamed-event-11-01-2011-88126
END:VEVENT

END:VCALENDAR
