BEGIN:VCALENDAR
VERSION:2.0
PRODID:-//ChamberMaster//Event Calendar 2.0//EN
METHOD:PUBLISH
X-PUBLISHED-TTL:P3D
REFRESH-INTERVAL:P3D
CALSCALE:GREGORIAN
BEGIN:VEVENT
DTSTART:20101021T050000Z
DTEND:20101021T050000Z
X-MICROSOFT-CDO-ALLDAYEVENT:FALSE
SUMMARY:Unnamed Event
DESCRIPTION:Houston East End Chamber of Commerce\n15th Annual Awards Gala\nBuilding the East End One Block at a Time!\n\nHonorary Co-Chairs\nAlec Dreyer\, CEO\, Port of Houston Authority and Ed Wulfe\, President\, Wulfe & Co.
X-ALT-DESC;FMTTYPE=text/html:Houston East End Chamber of Commerce\n15th Annual Awards Gala\nBuilding the East End One Block at a Time!\n\nHonorary Co-Chairs\nAlec Dreyer\, CEO\, Port of Houston Authority and Ed Wulfe\, President\, Wulfe & Co.
LOCATION:Houston Marriott South Hotel at Hobby Airport 9100 Airport Boulevard Houston\, TX 77017
UID:e.2026.67189
SEQUENCE:3
DTSTAMP:20260423T235619Z
URL:https://business.eecoc.org/events/details/unnamed-event-10-21-2010-67189
END:VEVENT

END:VCALENDAR
