BEGIN:VCALENDAR
VERSION:2.0
PRODID:-//ChamberMaster//Event Calendar 2.0//EN
METHOD:PUBLISH
X-PUBLISHED-TTL:P3D
REFRESH-INTERVAL:P3D
CALSCALE:GREGORIAN
BEGIN:VEVENT
DTSTART:20111020T050000Z
DTEND:20111020T050000Z
X-MICROSOFT-CDO-ALLDAYEVENT:FALSE
SUMMARY:Unnamed Event
DESCRIPTION:Houston East End Chamber of Commerce\n16th Annual Award & Scholarship Celebration\n\nHonorary Co-Chairs - Chris Canetti\, CEO\, Houston Dynamo & Matt Delnick\, CEO\, Greenstar
X-ALT-DESC;FMTTYPE=text/html:Houston East End Chamber of Commerce\n16th Annual Award & Scholarship Celebration\n\nHonorary Co-Chairs - Chris Canetti\, CEO\, Houston Dynamo & Matt Delnick\, CEO\, Greenstar\n
LOCATION:Houston Marriott South Hotel at Hobby Airport 9100 Airport Boulevard Houston\, TX 77017
UID:e.2026.86327
SEQUENCE:3
DTSTAMP:20260423T060309Z
URL:https://business.eecoc.org/events/details/unnamed-event-10-20-2011-86327
END:VEVENT

END:VCALENDAR
