BEGIN:VCALENDAR
VERSION:2.0
PRODID:-//ChamberMaster//Event Calendar 2.0//EN
METHOD:PUBLISH
X-PUBLISHED-TTL:P3D
REFRESH-INTERVAL:P3D
CALSCALE:GREGORIAN
BEGIN:VEVENT
DTSTART:20111007T050000Z
DTEND:20111007T050000Z
X-MICROSOFT-CDO-ALLDAYEVENT:FALSE
SUMMARY:Unnamed Event
DESCRIPTION:Give a 60 second "commercial" on YOUR business to more than 50 prospective customers!\nThis complimentary event includes breakfast and coffee!  \n\nStick around after the event and help save up to three lives!  The Gulfgate Neighborhood Donor Center will begin accepting donations at 8 a.m. Blood donations are needed every day to help surgery patients\, cancer patients\, premature babies and more in our community\, and the Gulfgate Neighborhood Donor Center provides a convenient opportunity for those in the East End to help.  If you can donate\, please visit the Gulfgate Neighborhood Donor Center for more information and schedule your donation.  In addition to the points you earn for your donation\, you will earn 100 Commit for Life Store points for keeping your appointment!\n\nPlease RSVP to marisa@eecoc.org or call 713-926-3305.
X-ALT-DESC;FMTTYPE=text/html:Give a 60 second "commercial" on YOUR business to more than 50 prospective customers!\nThis complimentary event includes breakfast and coffee!  \n\nStick around after the event and help save up to three lives!  The Gulfgate Neighborhood Donor Center will begin accepting donations at 8 a.m. Blood donations are needed every day to help surgery patients\, cancer patients\, premature babies and more in our community\, and the Gulfgate Neighborhood Donor Center provides a convenient opportunity for those in the East End to help.  If you can donate\, please visit the Gulfgate Neighborhood Donor Center for more information and schedule your donation.  In addition to the points you earn for your donation\, you will earn 100 Commit for Life Store points for keeping your appointment!\n\nPlease RSVP to marisa@eecoc.org or call 713-926-3305.
LOCATION:Gulf Coast Regional Blood Center - Gulfgate (next door to East End Chamber office) 546 Gulfgate Center Houston\, Texas 77087
UID:e.2026.87428
SEQUENCE:3
DTSTAMP:20260423T054736Z
URL:https://business.eecoc.org/events/details/unnamed-event-10-07-2011-87428
END:VEVENT

END:VCALENDAR
