BEGIN:VCALENDAR
VERSION:2.0
PRODID:-//ChamberMaster//Event Calendar 2.0//EN
METHOD:PUBLISH
X-PUBLISHED-TTL:P3D
REFRESH-INTERVAL:P3D
CALSCALE:GREGORIAN
BEGIN:VEVENT
DTSTART:20091007T050000Z
DTEND:20091007T050000Z
X-MICROSOFT-CDO-ALLDAYEVENT:FALSE
SUMMARY:Unnamed Event
DESCRIPTION:Breakfast with Dr. Khator\, Chancellor & President\, University of Houston System.  Hear future plans for U of H\, including benefits of becoming a Tier One University which will create HUGE Economic Development impact for the region!  $5 at door per per for Brady's Breakfast Buffet!
X-ALT-DESC;FMTTYPE=text/html:Breakfast with Dr. Khator\, Chancellor & President\, University of Houston System.  Hear future plans for U of H\, including benefits of becoming a Tier One University which will create HUGE Economic Development impact for the region!  $5 at door per per for Brady's Breakfast Buffet!
LOCATION:Brady's Landing 8505 Cypress St. 8:00 - 9:30 a.m.
UID:e.2026.40870
SEQUENCE:3
DTSTAMP:20260424T174519Z
URL:https://business.eecoc.org/events/details/unnamed-event-10-07-2009-40870
END:VEVENT

END:VCALENDAR
