BEGIN:VCALENDAR
VERSION:2.0
PRODID:-//ChamberMaster//Event Calendar 2.0//EN
METHOD:PUBLISH
X-PUBLISHED-TTL:P3D
REFRESH-INTERVAL:P3D
CALSCALE:GREGORIAN
BEGIN:VEVENT
DTSTART:20090930T050000Z
DTEND:20090930T050000Z
X-MICROSOFT-CDO-ALLDAYEVENT:FALSE
SUMMARY:Unnamed Event
DESCRIPTION:Annual Awards Luncheon honoring 2009 East End Award Winners\nBiggest luncheon of the year!  Be a part of East End Elite and honor\nmembers who make out HOMETOWN GREAT!  \nMake Reservations TODAY!
X-ALT-DESC;FMTTYPE=text/html:Annual Awards Luncheon honoring 2009 East End Award Winners\nBiggest luncheon of the year!  Be a part of East End Elite and honor\nmembers who make out HOMETOWN GREAT!  \nMake Reservations TODAY!
LOCATION:Brady's Landing 8505 Cypress St. - 77012
UID:e.2026.40724
SEQUENCE:3
DTSTAMP:20260424T193325Z
URL:https://business.eecoc.org/events/details/unnamed-event-09-30-2009-40724
END:VEVENT

END:VCALENDAR
