BEGIN:VCALENDAR
VERSION:2.0
PRODID:-//ChamberMaster//Event Calendar 2.0//EN
METHOD:PUBLISH
X-PUBLISHED-TTL:P3D
REFRESH-INTERVAL:P3D
CALSCALE:GREGORIAN
BEGIN:VEVENT
DTSTART:20110929T050000Z
DTEND:20110929T050000Z
X-MICROSOFT-CDO-ALLDAYEVENT:FALSE
SUMMARY:Unnamed Event
DESCRIPTION:Moderator\nPhil Morabito\, CEO\, Pierpont Communications\, Inc.\nIntroductory Remarks\nByron Hebert\, Director\, Pannell Kerr Forster of Texas\, P.C. & East End Chamber of Commerce\nAdvisory Board Chair\nPanelists\nCynthia Gilliam\, Lone Star College System\nLarge Non-Profit CFO Winner\, 2011\nJoel Gutierrez\, Cherry\nEmerging Private Company CFO Winner\, 2011\nAlbert L. Reese Jr.\, ATP Oil & Gas Corp.\nMid-Cap Public Company CFO Winner\, 2011\nBeth Tanner\, The Houston Food Bank\nLarge Non-Proft CFO Winner\, 2009
X-ALT-DESC;FMTTYPE=text/html:Moderator\nPhil Morabito\, CEO\, Pierpont Communications\, Inc.\nIntroductory Remarks\nByron Hebert\, Director\, Pannell Kerr Forster of Texas\, P.C. & East End Chamber of Commerce\nAdvisory Board Chair\nPanelists\nCynthia Gilliam\, Lone Star College System\nLarge Non-Profit CFO Winner\, 2011\nJoel Gutierrez\, Cherry\nEmerging Private Company CFO Winner\, 2011\nAlbert L. Reese Jr.\, ATP Oil & Gas Corp.\nMid-Cap Public Company CFO Winner\, 2011\nBeth Tanner\, The Houston Food Bank\nLarge Non-Proft CFO Winner\, 2009
LOCATION:Brady's Landing 8505 Cypress Houston\, TX 77012
UID:e.2026.86751
SEQUENCE:3
DTSTAMP:20260423T071852Z
URL:https://business.eecoc.org/events/details/unnamed-event-09-29-2011-86751
END:VEVENT

END:VCALENDAR
