BEGIN:VCALENDAR
VERSION:2.0
PRODID:-//ChamberMaster//Event Calendar 2.0//EN
METHOD:PUBLISH
X-PUBLISHED-TTL:P3D
REFRESH-INTERVAL:P3D
CALSCALE:GREGORIAN
BEGIN:VEVENT
DTSTART:20110923T050000Z
DTEND:20110923T050000Z
X-MICROSOFT-CDO-ALLDAYEVENT:FALSE
SUMMARY:Unnamed Event
DESCRIPTION:September Business After Hours! Held at a new addition to the East End\, Paco JOes's Grill & Cantina at Plaza Flamingo. Join us for fun while networking with new business prospects!
X-ALT-DESC;FMTTYPE=text/html:September Business After Hours! Held at a new addition to the East End\, Paco JOes's Grill & Cantina at Plaza Flamingo. Join us for fun while networking with new business prospects!
LOCATION:Paco Joe’s Grill & Cantina 9906 Gulf Freeway
UID:e.2026.87122
SEQUENCE:3
DTSTAMP:20260423T071956Z
URL:https://business.eecoc.org/events/details/unnamed-event-09-23-2011-87122
END:VEVENT

END:VCALENDAR
