BEGIN:VCALENDAR
VERSION:2.0
PRODID:-//ChamberMaster//Event Calendar 2.0//EN
METHOD:PUBLISH
X-PUBLISHED-TTL:P3D
REFRESH-INTERVAL:P3D
CALSCALE:GREGORIAN
BEGIN:VEVENT
DTSTART:20090918T050000Z
DTEND:20090918T050000Z
X-MICROSOFT-CDO-ALLDAYEVENT:FALSE
SUMMARY:Unnamed Event
DESCRIPTION:Building a Community Friendly Light Rail Line on Harrisburg!
X-ALT-DESC;FMTTYPE=text/html:Building a Community Friendly Light Rail Line on Harrisburg!\n
LOCATION:One Americas Plaza 2311 Canal - 77003
UID:e.2026.39991
SEQUENCE:3
DTSTAMP:20260424T211824Z
URL:https://business.eecoc.org/events/details/unnamed-event-09-18-2009-39991
END:VEVENT

END:VCALENDAR
