BEGIN:VCALENDAR
VERSION:2.0
PRODID:-//ChamberMaster//Event Calendar 2.0//EN
METHOD:PUBLISH
X-PUBLISHED-TTL:P3D
REFRESH-INTERVAL:P3D
CALSCALE:GREGORIAN
BEGIN:VEVENT
DTSTART:20100916T050000Z
DTEND:20100916T050000Z
X-MICROSOFT-CDO-ALLDAYEVENT:FALSE
SUMMARY:Unnamed Event
DESCRIPTION:It's FIESTA TIME\nCelebrate Diez y Seis de Septiembre \nFood\, Drinks & Music compliments of IBC Bank
X-ALT-DESC;FMTTYPE=text/html:It's FIESTA TIME\nCelebrate Diez y Seis de Septiembre \nFood\, Drinks & Music compliments of IBC Bank
LOCATION:IBC Bank Gulfgate 3200 Woodridge at Gulfgate Center
UID:e.2026.67052
SEQUENCE:3
DTSTAMP:20260424T013931Z
URL:https://business.eecoc.org/events/details/unnamed-event-09-16-2010-67052
END:VEVENT

END:VCALENDAR
