BEGIN:VCALENDAR
VERSION:2.0
PRODID:-//ChamberMaster//Event Calendar 2.0//EN
METHOD:PUBLISH
X-PUBLISHED-TTL:P3D
REFRESH-INTERVAL:P3D
CALSCALE:GREGORIAN
BEGIN:VEVENT
DTSTART:20100915T050000Z
DTEND:20100915T050000Z
X-MICROSOFT-CDO-ALLDAYEVENT:FALSE
SUMMARY:Unnamed Event
DESCRIPTION:Awards Luncheon Honoring 2010 East End Award Winners!   This is the biggest luncheon of the year!  Make reservations now to be part of East End Elite and honor members who make our Hometown Great!
X-ALT-DESC;FMTTYPE=text/html:Awards Luncheon Honoring 2010 East End Award Winners!   This is the biggest luncheon of the year!  Make reservations now to be part of East End Elite and honor members who make our Hometown Great!
LOCATION:Brady's Landing 8505 Cypress
UID:e.2026.67044
SEQUENCE:3
DTSTAMP:20260424T013759Z
URL:https://business.eecoc.org/events/details/unnamed-event-09-15-2010-67044
END:VEVENT

END:VCALENDAR
