BEGIN:VCALENDAR
VERSION:2.0
PRODID:-//ChamberMaster//Event Calendar 2.0//EN
METHOD:PUBLISH
X-PUBLISHED-TTL:P3D
REFRESH-INTERVAL:P3D
CALSCALE:GREGORIAN
BEGIN:VEVENT
DTSTART:20110914T050000Z
DTEND:20110914T050000Z
X-MICROSOFT-CDO-ALLDAYEVENT:FALSE
SUMMARY:Unnamed Event
DESCRIPTION:Hear the State of the County from Judge Ed Emmett.\nJudge Emmett oversees a county government serving nearly four million remarkably diverse residents and works to improve our quality of life today and protect it for tomorrow.
X-ALT-DESC;FMTTYPE=text/html:Hear the State of the County from Judge Ed Emmett.\nJudge Emmett oversees a county government serving nearly four million remarkably diverse residents and works to improve our quality of life today and protect it for tomorrow.
LOCATION:Brady's Landing 8505 Cypress Houston\, TX 77012
UID:e.2026.85967
SEQUENCE:3
DTSTAMP:20260423T072913Z
URL:https://business.eecoc.org/events/details/unnamed-event-09-14-2011-85967
END:VEVENT

END:VCALENDAR
