BEGIN:VCALENDAR
VERSION:2.0
PRODID:-//ChamberMaster//Event Calendar 2.0//EN
METHOD:PUBLISH
X-PUBLISHED-TTL:P3D
REFRESH-INTERVAL:P3D
CALSCALE:GREGORIAN
BEGIN:VEVENT
DTSTART:20090901T050000Z
DTEND:20090901T050000Z
X-MICROSOFT-CDO-ALLDAYEVENT:FALSE
SUMMARY:Unnamed Event
DESCRIPTION:Give a 60 second commercial and meet 60 prospective clients!\nReceive contact list for everyone in attendance at the end of the day.\nMake your reservation today!
X-ALT-DESC;FMTTYPE=text/html:Give a 60 second commercial and meet 60 prospective clients!\nReceive contact list for everyone in attendance at the end of the day.\nMake your reservation today!
LOCATION:Suzanne Anderson Properties 2311 Canal
UID:e.2026.38087
SEQUENCE:3
DTSTAMP:20260424T192844Z
URL:https://business.eecoc.org/events/details/unnamed-event-09-01-2009-38087
END:VEVENT

END:VCALENDAR
