BEGIN:VCALENDAR
VERSION:2.0
PRODID:-//ChamberMaster//Event Calendar 2.0//EN
METHOD:PUBLISH
X-PUBLISHED-TTL:P3D
REFRESH-INTERVAL:P3D
CALSCALE:GREGORIAN
BEGIN:VEVENT
DTSTART:20090826T050000Z
DTEND:20090826T050000Z
X-MICROSOFT-CDO-ALLDAYEVENT:FALSE
SUMMARY:Unnamed Event
DESCRIPTION:Doing Business with the Logistics/Transportation Industry!  Panel of Leaders in Logistics/Transportation will share the basics of their business and how YOU can build relationships that mean business for YOU!  Steve Stewart\, President/Co-Owner Gulf Winds International and Danny Schnautz\, Clark Freight Lines will serve as two of the panelists.  Logistics is BIG BUSINESS - be informed and build YOUR business!
X-ALT-DESC;FMTTYPE=text/html:Doing Business with the Logistics/Transportation Industry!  Panel of Leaders in Logistics/Transportation will share the basics of their business and how YOU can build relationships that mean business for YOU!  Steve Stewart\, President/Co-Owner Gulf Winds International and Danny Schnautz\, Clark Freight Lines will serve as two of the panelists.  Logistics is BIG BUSINESS - be informed and build YOUR business!
LOCATION:Brady's Landing - 8505 Cypress St. 11:30 a.m. - 1:00 p.m
UID:e.2026.34135
SEQUENCE:3
DTSTAMP:20260424T210046Z
URL:https://business.eecoc.org/events/details/unnamed-event-08-26-2009-34135
END:VEVENT

END:VCALENDAR
