BEGIN:VCALENDAR
VERSION:2.0
PRODID:-//ChamberMaster//Event Calendar 2.0//EN
METHOD:PUBLISH
X-PUBLISHED-TTL:P3D
REFRESH-INTERVAL:P3D
CALSCALE:GREGORIAN
BEGIN:VEVENT
DTSTART:20100811T050000Z
DTEND:20100811T050000Z
X-MICROSOFT-CDO-ALLDAYEVENT:FALSE
SUMMARY:Unnamed Event
DESCRIPTION:"HUNKER" down with Judge Ed Emmett and learn more about his role as chief executive officer for Harris County!  Judge Emmett is responsible for working with four county commissioners to oversee a county government serving nearly four million residents.
X-ALT-DESC;FMTTYPE=text/html:"HUNKER" down with Judge Ed Emmett and learn more about his role as chief executive officer for Harris County!  Judge Emmett is responsible for working with four county commissioners to oversee a county government serving nearly four million residents.
LOCATION:Brady's Landing 8505 Cypress St.
UID:e.2026.65097
SEQUENCE:3
DTSTAMP:20260424T030914Z
URL:https://business.eecoc.org/events/details/unnamed-event-08-11-2010-65097
END:VEVENT

END:VCALENDAR
