BEGIN:VCALENDAR
VERSION:2.0
PRODID:-//ChamberMaster//Event Calendar 2.0//EN
METHOD:PUBLISH
X-PUBLISHED-TTL:P3D
REFRESH-INTERVAL:P3D
CALSCALE:GREGORIAN
BEGIN:VEVENT
DTSTART:20110810T050000Z
DTEND:20110810T050000Z
X-MICROSOFT-CDO-ALLDAYEVENT:FALSE
SUMMARY:Unnamed Event
DESCRIPTION:Business Hurricane Readiness Panel Discussion - Learn how to keep your business running in the event of a Hurricane.  You will receive information on how to prepare your office building\, computer system & employees for Hurricane Season!
X-ALT-DESC;FMTTYPE=text/html:Business Hurricane Readiness Panel Discussion - Learn how to keep your business running in the event of a Hurricane.  You will receive information on how to prepare your office building\, computer system & employees for Hurricane Season!
LOCATION:Brady's Landing 8505 Cypress Houston\, TX 77012
UID:e.2026.84777
SEQUENCE:3
DTSTAMP:20260423T090327Z
URL:https://business.eecoc.org/events/details/unnamed-event-08-10-2011-84777
END:VEVENT

END:VCALENDAR
