BEGIN:VCALENDAR
VERSION:2.0
PRODID:-//ChamberMaster//Event Calendar 2.0//EN
METHOD:PUBLISH
X-PUBLISHED-TTL:P3D
REFRESH-INTERVAL:P3D
CALSCALE:GREGORIAN
BEGIN:VEVENT
DTSTART:20100803T050000Z
DTEND:20100803T050000Z
X-MICROSOFT-CDO-ALLDAYEVENT:FALSE
SUMMARY:Unnamed Event
DESCRIPTION:MOVE AT THE SPEED OF BUSINESS!  Start your day with 60 business professionals at our August Speed Networking Breakfast!  Market YOUR business to 60 business professionals in just 60 minutes!  At the end of the day receive contact information on all attendees!  \n\nComplimentary breakfast with reservations.  Sign up today!
X-ALT-DESC;FMTTYPE=text/html:MOVE AT THE SPEED OF BUSINESS!  Start your day with 60 business professionals at our August Speed Networking Breakfast!  Market YOUR business to 60 business professionals in just 60 minutes!  At the end of the day receive contact information on all attendees!  \n\nComplimentary breakfast with reservations.  Sign up today!
LOCATION:Girls Scouts of San Jacinto Council 3110 Southwest Freeway 77027 8:00 a.m.
UID:e.2026.65051
SEQUENCE:3
DTSTAMP:20260424T030331Z
URL:https://business.eecoc.org/events/details/unnamed-event-08-03-2010-65051
END:VEVENT

END:VCALENDAR
