BEGIN:VCALENDAR
VERSION:2.0
PRODID:-//ChamberMaster//Event Calendar 2.0//EN
METHOD:PUBLISH
X-PUBLISHED-TTL:P3D
REFRESH-INTERVAL:P3D
CALSCALE:GREGORIAN
BEGIN:VEVENT
DTSTART:20120731T050000Z
DTEND:20120731T050000Z
X-MICROSOFT-CDO-ALLDAYEVENT:FALSE
SUMMARY:Unnamed Event
DESCRIPTION:Give a 60 second commercial about your business to more than 40 potential customers!  Receive contact information after the event for immediate follow-up!  Breakfast will be provided.\n\nPlease note: Parking for the Military History Museum is located across the street on Sampson St.
X-ALT-DESC;FMTTYPE=text/html:Give a 60 second commercial about your business to more than 40 potential customers!  Receive contact information after the event for immediate follow-up!  Breakfast will be provided.\n\nPlease note: Parking for the Military History Museum is located across the street on Sampson St.
LOCATION:Military History Museum (WWII Museum) 3302 Canal St. Houston\, Texas 77003
UID:e.2026.97341
SEQUENCE:3
DTSTAMP:20260422T161749Z
URL:https://business.eecoc.org/events/details/unnamed-event-07-31-2012-97341
END:VEVENT

END:VCALENDAR
