BEGIN:VCALENDAR
VERSION:2.0
PRODID:-//ChamberMaster//Event Calendar 2.0//EN
METHOD:PUBLISH
X-PUBLISHED-TTL:P3D
REFRESH-INTERVAL:P3D
CALSCALE:GREGORIAN
BEGIN:VEVENT
DTSTART:20100730T050000Z
DTEND:20100730T050000Z
X-MICROSOFT-CDO-ALLDAYEVENT:FALSE
SUMMARY:Unnamed Event
DESCRIPTION:Infrastructure Taskforce Meeting featuring William Wachel\, Director of Project Management & G.I.S. Port of Houston.  A total of nearly $7 billion in revenue is generated annually by all businesses providing direct services at the Port.  Learn about upcoming capital improvement projects at the Port of Houston and connect your business to the East End's Economic Engine!\n\nMake reservations today for complimentary lunch sponsored by CenterPoint Energy and meeting space hosted by HCC Southeast!
X-ALT-DESC;FMTTYPE=text/html:Infrastructure Taskforce Meeting featuring William Wachel\, Director of Project Management & G.I.S. Port of Houston.  A total of nearly $7 billion in revenue is generated annually by all businesses providing direct services at the Port.  Learn about upcoming capital improvement projects at the Port of Houston and connect your business to the East End's Economic Engine!\n\nMake reservations today for complimentary lunch sponsored by CenterPoint Energy and meeting space hosted by HCC Southeast!
LOCATION:Houston Community College Southeast 6815 Rustic Ave. Learning Hub Building - Room 108
UID:e.2026.65034
SEQUENCE:3
DTSTAMP:20260424T043319Z
URL:https://business.eecoc.org/events/details/unnamed-event-07-30-2010-65034
END:VEVENT

END:VCALENDAR
