BEGIN:VCALENDAR
VERSION:2.0
PRODID:-//ChamberMaster//Event Calendar 2.0//EN
METHOD:PUBLISH
X-PUBLISHED-TTL:P3D
REFRESH-INTERVAL:P3D
CALSCALE:GREGORIAN
BEGIN:VEVENT
DTSTART:20090730T050000Z
DTEND:20090730T050000Z
X-MICROSOFT-CDO-ALLDAYEVENT:FALSE
SUMMARY:Unnamed Event
DESCRIPTION:Eat\, Drink & Play in the Private Party Room at Dave & Buster's and meet NEW friends to grow YOUR Business!
X-ALT-DESC;FMTTYPE=text/html:Eat\, Drink & Play in the Private Party Room at Dave & Buster's and meet NEW friends to grow YOUR Business!
LOCATION:Dave & Buster's 6010 Richmond Ave. - 77057
UID:e.2026.11730
SEQUENCE:3
DTSTAMP:20260424T224428Z
URL:https://business.eecoc.org/events/details/unnamed-event-07-30-2009-11730
END:VEVENT

END:VCALENDAR
