BEGIN:VCALENDAR
VERSION:2.0
PRODID:-//ChamberMaster//Event Calendar 2.0//EN
METHOD:PUBLISH
X-PUBLISHED-TTL:P3D
REFRESH-INTERVAL:P3D
CALSCALE:GREGORIAN
BEGIN:VEVENT
DTSTART:20110728T050000Z
DTEND:20110728T050000Z
X-MICROSOFT-CDO-ALLDAYEVENT:FALSE
SUMMARY:Unnamed Event
DESCRIPTION:
X-ALT-DESC;FMTTYPE=text/html:
LOCATION:Talento Bilingue de Houston 333 South Jensen Drive
UID:e.2026.82620
SEQUENCE:3
DTSTAMP:20260423T105235Z
URL:https://business.eecoc.org/events/details/unnamed-event-07-28-2011-82620
END:VEVENT

END:VCALENDAR
