BEGIN:VCALENDAR
VERSION:2.0
PRODID:-//ChamberMaster//Event Calendar 2.0//EN
METHOD:PUBLISH
X-PUBLISHED-TTL:P3D
REFRESH-INTERVAL:P3D
CALSCALE:GREGORIAN
BEGIN:VEVENT
DTSTART:20110713T050000Z
DTEND:20110713T050000Z
X-MICROSOFT-CDO-ALLDAYEVENT:FALSE
SUMMARY:Unnamed Event
DESCRIPTION:Featuring: Eugenio J. Alemán\, Ph.D\, Director\, Senior Economist at Wells Fargo Securities\, LLC\nDr. Alemán is based in Charlotte N.C. and forecasts national\, regional\, and international economic trends.  Join us and hear about economic trends in our Houston East End including interest rates and the economies of Texas.  Eugenio’s commentaries have appeared in national publications such as the Wall Street Journal\, Los Angeles Times\, San Francisco Chronicle\, Washington Post\, and USA Today\, as well as many national and international media outlets including Associated Press\, Reuters\, and Bloomberg News
X-ALT-DESC;FMTTYPE=text/html:Featuring: Eugenio J. Alemán\, Ph.D\, Director\, Senior Economist at Wells Fargo Securities\, LLC\nDr. Alemán is based in Charlotte N.C. and forecasts national\, regional\, and international economic trends.  Join us and hear about economic trends in our Houston East End including interest rates and the economies of Texas.  Eugenio’s commentaries have appeared in national publications such as the Wall Street Journal\, Los Angeles Times\, San Francisco Chronicle\, Washington Post\, and USA Today\, as well as many national and international media outlets including Associated Press\, Reuters\, and Bloomberg News
LOCATION:Brady's Landing 8505 Cypress Houston\, TX 77012
UID:e.2026.81996
SEQUENCE:3
DTSTAMP:20260423T105143Z
URL:https://business.eecoc.org/events/details/unnamed-event-07-13-2011-81996
END:VEVENT

END:VCALENDAR
