BEGIN:VCALENDAR
VERSION:2.0
PRODID:-//ChamberMaster//Event Calendar 2.0//EN
METHOD:PUBLISH
X-PUBLISHED-TTL:P3D
REFRESH-INTERVAL:P3D
CALSCALE:GREGORIAN
BEGIN:VEVENT
DTSTART:20120711T050000Z
DTEND:20120711T050000Z
X-MICROSOFT-CDO-ALLDAYEVENT:FALSE
SUMMARY:Unnamed Event
DESCRIPTION:Carlecia D. Wright\, Director for the City of Houston's Mayor's Office of Business Opportunity\n\nIn April 2011\, Ms. Wright was appointed by Mayor Annise Parker to ensure that the City's small\, minority\, women-owned and disadvantaged business enterprises have meaningful participation in the city's procurement process and that the City facilitates business development and stimulates job creation through the implementation of new policies and initiatives.\n\nJoin us in welcoming Ms. Wright.  Learn how to do business with the City of Houston\, learn how to become a Certified Vendor and learn about "Hire Houston First"\, an effort to promote ecomonic opportunity for Houston businesses and to support job creation.  Get an overview of the State of her department and how they are helping the East End grow!
X-ALT-DESC;FMTTYPE=text/html:Carlecia D. Wright\, Director for the City of Houston's Mayor's Office of Business Opportunity\n\nIn April 2011\, Ms. Wright was appointed by Mayor Annise Parker to ensure that the City's small\, minority\, women-owned and disadvantaged business enterprises have meaningful participation in the city's procurement process and that the City facilitates business development and stimulates job creation through the implementation of new policies and initiatives.\n\nJoin us in welcoming Ms. Wright.  Learn how to do business with the City of Houston\, learn how to become a Certified Vendor and learn about "Hire Houston First"\, an effort to promote ecomonic opportunity for Houston businesses and to support job creation.  Get an overview of the State of her department and how they are helping the East End grow!
LOCATION:Brady's Landing 8505 Cypress St. Houston\, Texas 77012
UID:e.2026.95439
SEQUENCE:3
DTSTAMP:20260422T161836Z
URL:https://business.eecoc.org/events/details/unnamed-event-07-11-2012-95439
END:VEVENT

END:VCALENDAR
