BEGIN:VCALENDAR
VERSION:2.0
PRODID:-//ChamberMaster//Event Calendar 2.0//EN
METHOD:PUBLISH
X-PUBLISHED-TTL:P3D
REFRESH-INTERVAL:P3D
CALSCALE:GREGORIAN
BEGIN:VEVENT
DTSTART:20110707T050000Z
DTEND:20110707T050000Z
X-MICROSOFT-CDO-ALLDAYEVENT:FALSE
SUMMARY:Unnamed Event
DESCRIPTION:Give a 60 second “commercial” on YOUR Business to more than 50 prospective customers!\nBuild relationships to move your business forward and receive contact information on all attendees for immediate follow-up! Don’t Miss this Complimentary Business Building Event
X-ALT-DESC;FMTTYPE=text/html:Give a 60 second “commercial” on YOUR Business to more than 50 prospective customers!\nBuild relationships to move your business forward and receive contact information on all attendees for immediate follow-up! Don’t Miss this Complimentary Business Building Event\n\n
LOCATION:SER-Jobs for Progress 201 Broadway\, Houston\, TX 77012
UID:e.2026.83582
SEQUENCE:3
DTSTAMP:20260423T105122Z
URL:https://business.eecoc.org/events/details/unnamed-event-07-07-2011-83582
END:VEVENT

END:VCALENDAR
