BEGIN:VCALENDAR
VERSION:2.0
PRODID:-//ChamberMaster//Event Calendar 2.0//EN
METHOD:PUBLISH
X-PUBLISHED-TTL:P3D
REFRESH-INTERVAL:P3D
CALSCALE:GREGORIAN
BEGIN:VEVENT
DTSTART:20090707T050000Z
DTEND:20090707T050000Z
X-MICROSOFT-CDO-ALLDAYEVENT:FALSE
SUMMARY:Unnamed Event
DESCRIPTION:
X-ALT-DESC;FMTTYPE=text/html:
LOCATION:OpenLabs Web Services & Software Applications 4820 Caroline St. Houston\, Texas 77004
UID:e.2026.11598
SEQUENCE:3
DTSTAMP:20260424T225932Z
URL:https://business.eecoc.org/events/details/unnamed-event-07-07-2009-11598
END:VEVENT

END:VCALENDAR
