BEGIN:VCALENDAR
VERSION:2.0
PRODID:-//ChamberMaster//Event Calendar 2.0//EN
METHOD:PUBLISH
X-PUBLISHED-TTL:P3D
REFRESH-INTERVAL:P3D
CALSCALE:GREGORIAN
BEGIN:VEVENT
DTSTART:20100624T050000Z
DTEND:20100624T050000Z
X-MICROSOFT-CDO-ALLDAYEVENT:FALSE
SUMMARY:Unnamed Event
DESCRIPTION:What do the recent changes in healthcare legislation mean for your business?  Hear how some of Houston's premier business leaders are managing the changes at the Eas tend Executive Roundtable.  They will reveal how to prepare and position your business for the new laws and will touch on topics ranging from legislation and compliance to the impact on employers and the economy.
X-ALT-DESC;FMTTYPE=text/html:What do the recent changes in healthcare legislation mean for your business?  Hear how some of Houston's premier business leaders are managing the changes at the Eas tend Executive Roundtable.  They will reveal how to prepare and position your business for the new laws and will touch on topics ranging from legislation and compliance to the impact on employers and the economy.
LOCATION:Brady's Landing 8505 Cypress
UID:e.2026.56888
SEQUENCE:3
DTSTAMP:20260424T060206Z
URL:https://business.eecoc.org/events/details/unnamed-event-06-24-2010-56888
END:VEVENT

END:VCALENDAR
