BEGIN:VCALENDAR
VERSION:2.0
PRODID:-//ChamberMaster//Event Calendar 2.0//EN
METHOD:PUBLISH
X-PUBLISHED-TTL:P3D
REFRESH-INTERVAL:P3D
CALSCALE:GREGORIAN
BEGIN:VEVENT
DTSTART:20110614T050000Z
DTEND:20110614T050000Z
X-MICROSOFT-CDO-ALLDAYEVENT:FALSE
SUMMARY:Unnamed Event
DESCRIPTION:Give a 60 second “commercial” on YOUR Business to more than 50 prospective customers!\nBuild relationships to move your business forward and receive contact information on all attendees for immediate follow-up! Don’t Miss this Complimentary Business Building Event
X-ALT-DESC;FMTTYPE=text/html:Give a 60 second “commercial” on YOUR Business to more than 50 prospective customers!\nBuild relationships to move your business forward and receive contact information on all attendees for immediate follow-up! Don’t Miss this Complimentary Business Building Event
LOCATION:AAMA – Association for the Advancement of Mexican Americans\, 6001-E Gulf Freeway (between Wayside and Griggs)\, 3rd Floor Board Room\, Houston\, TX 77023
UID:e.2026.81986
SEQUENCE:3
DTSTAMP:20260423T120929Z
URL:https://business.eecoc.org/events/details/unnamed-event-06-14-2011-81986
END:VEVENT

END:VCALENDAR
