BEGIN:VCALENDAR
VERSION:2.0
PRODID:-//ChamberMaster//Event Calendar 2.0//EN
METHOD:PUBLISH
X-PUBLISHED-TTL:P3D
REFRESH-INTERVAL:P3D
CALSCALE:GREGORIAN
BEGIN:VEVENT
DTSTART:20120613T050000Z
DTEND:20120613T050000Z
X-MICROSOFT-CDO-ALLDAYEVENT:FALSE
SUMMARY:Unnamed Event
DESCRIPTION:Port of Houston Appreciation Day\n\nSkipper's Business Expo - 9:30 a.m. - 11:45 a.m.   Leonard Waterworth\, Executive Director\, Port of Houston Authority\n\nSpecial Guests-Port of Houston Authority Board of Commissioners
X-ALT-DESC;FMTTYPE=text/html:Port of Houston Appreciation Day\n\nSkipper's Business Expo - 9:30 a.m. - 11:45 a.m. & 1:30 p.m. - 2:00 p.m.\n\nPort of Houston Appreciation Banquet - 11:45 a.m. - 1:15 p.m.\n\nSpeakers-Jim Edmonds\, Chairman\; Leonard Waterworth\, Executive Director\, Port of Houston Authority\n\nSpecial Guests-Port of Houston Authority Board of Commissioners
LOCATION:Brady's Landing 5805 Cypress St. Houston\, Texas 77012
UID:e.2026.92536
SEQUENCE:3
DTSTAMP:20260422T174111Z
URL:https://business.eecoc.org/events/details/unnamed-event-06-13-2012-92536
END:VEVENT

END:VCALENDAR
