BEGIN:VCALENDAR
VERSION:2.0
PRODID:-//ChamberMaster//Event Calendar 2.0//EN
METHOD:PUBLISH
X-PUBLISHED-TTL:P3D
REFRESH-INTERVAL:P3D
CALSCALE:GREGORIAN
BEGIN:VEVENT
DTSTART:20100609T050000Z
DTEND:20100609T050000Z
X-MICROSOFT-CDO-ALLDAYEVENT:FALSE
SUMMARY:Unnamed Event
DESCRIPTION:Port of Houston Appreciation Luncheon & 2010 Business Expo!  Featuring Jim Edmonds\, Chairman and Alec Dreyer\, CEO\, Port of Houston Authority!\nSocial Media Continental Breakfast Seminar\,  Tweet\, Link & Friend like a Pro featuring Denise Patrick\, Vice President\, Marketing & Creative Services\, PierPont Communications.  Skipper's Business Expo - visit more than 70 booths and Market YOUR Business TOO!\nSpace for all events is limited!  Register now!
X-ALT-DESC;FMTTYPE=text/html:Port of Houston Appreciation Luncheon & 2010 Business Expo!  Featuring Jim Edmonds\, Chairman and Alec Dreyer\, CEO\, Port of Houston Authority!\nSocial Media Continental Breakfast Seminar\,  Tweet\, Link & Friend like a Pro featuring Denise Patrick\, Vice President\, Marketing & Creative Services\, PierPont Communications.  Skipper's Business Expo - visit more than 70 booths and Market YOUR Business TOO!\nSpace for all events is limited!  Register now!
LOCATION:Brady's Landing 8505 Cypress St.
UID:e.2026.55163
SEQUENCE:3
DTSTAMP:20260424T060359Z
URL:https://business.eecoc.org/events/details/unnamed-event-06-09-2010-55163
END:VEVENT

END:VCALENDAR
