BEGIN:VCALENDAR
VERSION:2.0
PRODID:-//ChamberMaster//Event Calendar 2.0//EN
METHOD:PUBLISH
X-PUBLISHED-TTL:P3D
REFRESH-INTERVAL:P3D
CALSCALE:GREGORIAN
BEGIN:VEVENT
DTSTART:20110608T050000Z
DTEND:20110608T050000Z
X-MICROSOFT-CDO-ALLDAYEVENT:FALSE
SUMMARY:Unnamed Event
DESCRIPTION:Port of Houston Appreciation Day\nTBD Continental Breakfast Seminar\nSkipper's Business Expo\nPort of Houston Appreciation Banquet\nSpeakers-Jim Edmonds\, Chairman\; Alec Dreyer\, CEO Port of Houston Authority\nSpecial Guests-Port of Houston Authority Board of Commissioners
X-ALT-DESC;FMTTYPE=text/html:Port of Houston Appreciation Day\nTBD Continental Breakfast Seminar\nSkipper's Business Expo\nPort of Houston Appreciation Banquet\nSpeakers-Jim Edmonds\, Chairman\; Alec Dreyer\, CEO Port of Houston Authority\nSpecial Guests-Port of Houston Authority Board of Commissioners\n
LOCATION:Brady's Landing 8505 Cypress Houston\, TX 77012
UID:e.2026.76005
SEQUENCE:3
DTSTAMP:20260423T120832Z
URL:https://business.eecoc.org/events/details/unnamed-event-06-08-2011-76005
END:VEVENT

END:VCALENDAR
