BEGIN:VCALENDAR
VERSION:2.0
PRODID:-//ChamberMaster//Event Calendar 2.0//EN
METHOD:PUBLISH
X-PUBLISHED-TTL:P3D
REFRESH-INTERVAL:P3D
CALSCALE:GREGORIAN
BEGIN:VEVENT
DTSTART:20100601T050000Z
DTEND:20100601T050000Z
X-MICROSOFT-CDO-ALLDAYEVENT:FALSE
SUMMARY:Unnamed Event
DESCRIPTION:Breakfast Exchange where YOU are the speaker!  Give a 60 second "commercial" on your business to more than 60 prospective customers and receive contact information on everyone present!  Come visit the new Finger Furniture store and preview one of the largest collections of vintage sports memorabilia including Babe Ruth\, Jackie Robinson and more!
X-ALT-DESC;FMTTYPE=text/html:Breakfast Exchange where YOU are the speaker!  Give a 60 second "commercial" on your business to more than 60 prospective customers and receive contact information on everyone present!  Come visit the new Finger Furniture store and preview one of the largest collections of vintage sports memorabilia including Babe Ruth\, Jackie Robinson and more!
LOCATION:Finger Furniture 4001 Gulf Freeway
UID:e.2026.55159
SEQUENCE:3
DTSTAMP:20260424T060209Z
URL:https://business.eecoc.org/events/details/unnamed-event-06-01-2010-55159
END:VEVENT

END:VCALENDAR
