BEGIN:VCALENDAR
VERSION:2.0
PRODID:-//ChamberMaster//Event Calendar 2.0//EN
METHOD:PUBLISH
X-PUBLISHED-TTL:P3D
REFRESH-INTERVAL:P3D
CALSCALE:GREGORIAN
BEGIN:VEVENT
DTSTART:20110526T050000Z
DTEND:20110526T050000Z
X-MICROSOFT-CDO-ALLDAYEVENT:FALSE
SUMMARY:Unnamed Event
DESCRIPTION:Meet our newest chamber member\, Irma Galvan\, while networking with new business prospects! Drink Specials and Complimentary Appetizers!
X-ALT-DESC;FMTTYPE=text/html:Meet our newest chamber member\, Irma Galvan\, while networking with new business prospects! Drink Specials and Complimentary Appetizers!
LOCATION:22 N. Chenevert\, Irma's Restaurant
UID:e.2026.81095
SEQUENCE:3
DTSTAMP:20260423T134158Z
URL:https://business.eecoc.org/events/details/unnamed-event-05-26-2011-81095
END:VEVENT

END:VCALENDAR
