BEGIN:VCALENDAR
VERSION:2.0
PRODID:-//ChamberMaster//Event Calendar 2.0//EN
METHOD:PUBLISH
X-PUBLISHED-TTL:P3D
REFRESH-INTERVAL:P3D
CALSCALE:GREGORIAN
BEGIN:VEVENT
DTSTART:20120523T050000Z
DTEND:20120523T050000Z
X-MICROSOFT-CDO-ALLDAYEVENT:FALSE
SUMMARY:Unnamed Event
DESCRIPTION:Give a 60 second commercial on your business to more than 40 prospective customers!  Receive contact information after the event for immediate follow up. Complimentary Breakfast will be provided!
X-ALT-DESC;FMTTYPE=text/html:Give a 60 second commercial on your business to more than 40 prospective customers!  Receive contact information after the event for immediate follow up. Complimentary Breakfast will be provided!
LOCATION:Houston Business Development\, Inc. Palm Center 5330 Griggs Road Houston\, Texas 77021
UID:e.2026.92532
SEQUENCE:3
DTSTAMP:20260422T190526Z
URL:https://business.eecoc.org/events/details/unnamed-event-05-23-2012-92532
END:VEVENT

END:VCALENDAR
