BEGIN:VCALENDAR
VERSION:2.0
PRODID:-//ChamberMaster//Event Calendar 2.0//EN
METHOD:PUBLISH
X-PUBLISHED-TTL:P3D
REFRESH-INTERVAL:P3D
CALSCALE:GREGORIAN
BEGIN:VEVENT
DTSTART:20110513T050000Z
DTEND:20110513T050000Z
X-MICROSOFT-CDO-ALLDAYEVENT:FALSE
SUMMARY:Unnamed Event
DESCRIPTION:Panel discussion on what the events in the middle east will have on the oil and chemical business in general and Houston in particular.\nSAVE THE DATE!
X-ALT-DESC;FMTTYPE=text/html:\n\nPanel discussion on what the events in the middle east will have on the oil and chemical business in general and Houston in particular.\nSAVE THE DATE!\n
LOCATION:Brady's Landing 8505 Cypress Houston\, TX 77012
UID:e.2026.76324
SEQUENCE:3
DTSTAMP:20260423T134122Z
URL:https://business.eecoc.org/events/details/unnamed-event-05-13-2011-76324
END:VEVENT

END:VCALENDAR
