BEGIN:VCALENDAR
VERSION:2.0
PRODID:-//ChamberMaster//Event Calendar 2.0//EN
METHOD:PUBLISH
X-PUBLISHED-TTL:P3D
REFRESH-INTERVAL:P3D
CALSCALE:GREGORIAN
BEGIN:VEVENT
DTSTART:20120509T050000Z
DTEND:20120509T050000Z
X-MICROSOFT-CDO-ALLDAYEVENT:FALSE
SUMMARY:Unnamed Event
DESCRIPTION:May Education Luncheon featuring Peter C. Bishop\, Ph.D.\, APF\nFuture Studies\, University of Houston\n\nDr. Peter Bishop is an Associate Professor of Strategic Foresight and Coordination of the graduate program in Future Studies at the University of Houston.\n\nWe will also present scholarships to deserving East End high school graduates while presenting computers for college to graduates of the Academy of Engineering at Chavez High School!
X-ALT-DESC;FMTTYPE=text/html:May Education Luncheon featuring Peter C. Bishop\, Ph.D.\, APF\nFuture Studies\, University of Houston\n\nDr. Peter Bishop is an Associate Professor of Strategic Foresight and Coordination of the graduate program in Future Studies at the University of Houston.\n\nWe will also present scholarships to deserving East End high school graduates while presenting computers for college to graduates of the Academy of Engineering at Chavez High School!
LOCATION:Brady's Landing 8505 Cypress St. Houston\, Texas 77012
UID:e.2026.91981
SEQUENCE:3
DTSTAMP:20260422T190029Z
URL:https://business.eecoc.org/events/details/unnamed-event-05-09-2012-91981
END:VEVENT

END:VCALENDAR
