BEGIN:VCALENDAR
VERSION:2.0
PRODID:-//ChamberMaster//Event Calendar 2.0//EN
METHOD:PUBLISH
X-PUBLISHED-TTL:P3D
REFRESH-INTERVAL:P3D
CALSCALE:GREGORIAN
BEGIN:VEVENT
DTSTART:20110504T050000Z
DTEND:20110504T050000Z
X-MICROSOFT-CDO-ALLDAYEVENT:FALSE
SUMMARY:Unnamed Event
DESCRIPTION:Featuring Dr. Bernard A. Harris Jr\,. Astronaut and President of the Harris Foundation\nLet's honor and hear from a Texan who\, as Payload Commander on Space Shuttle Discovery STS-63 in 1995\, served on the first flight of the joint Russian-American Space Program\, becoming the "First African American to walk in Space".\nHe is also the Founder of the Harris Foundation\, a non-profit organization that supports mathematics/science education and crime prevention programs for America's youth.
X-ALT-DESC;FMTTYPE=text/html:Featuring Dr. Bernard A. Harris Jr\,. Astronaut and President of the Harris Foundation\nLet's honor and hear from a Texan who\, as Payload Commander on Space Shuttle Discovery STS-63 in 1995\, served on the first flight of the joint Russian-American Space Program\, becoming the "First African American to walk in Space".\nHe is also the Founder of the Harris Foundation\, a non-profit organization that supports mathematics/science education and crime prevention programs for America's youth.
LOCATION:Brady's Landing 8505 Cypress Houston\, TX 77012
UID:e.2026.75996
SEQUENCE:3
DTSTAMP:20260423T134128Z
URL:https://business.eecoc.org/events/details/unnamed-event-05-04-2011-75996
END:VEVENT

END:VCALENDAR
